BEGIN:VCALENDAR
VERSION:2.0
PRODID:-//BOHUŠ MATUŠ - ECPv5.9.1//NONSGML v1.0//EN
CALSCALE:GREGORIAN
METHOD:PUBLISH
X-WR-CALNAME:BOHUŠ MATUŠ
X-ORIGINAL-URL:https://bohusmatus.com
X-WR-CALDESC:Akce na BOHUŠ MATUŠ
BEGIN:VTIMEZONE
TZID:Europe/Prague
BEGIN:DAYLIGHT
TZOFFSETFROM:+0100
TZOFFSETTO:+0200
TZNAME:CEST
DTSTART:20260329T010000
END:DAYLIGHT
BEGIN:STANDARD
TZOFFSETFROM:+0200
TZOFFSETTO:+0100
TZNAME:CET
DTSTART:20261025T010000
END:STANDARD
END:VTIMEZONE
BEGIN:VEVENT
DTSTART;TZID=Europe/Prague:20261009T190000
DTEND;TZID=Europe/Prague:20261009T210000
DTSTAMP:20260419T142352
CREATED:20260330T121202Z
LAST-MODIFIED:20260330T121202Z
UID:6817-1791572400-1791579600@bohusmatus.com
SUMMARY:Semafor - Jó třesně zrály
DESCRIPTION:Bára
URL:https://bohusmatus.com/vystoupeni/semafor-jo-tresne-zraly-2/
CATEGORIES:Vystoupení
END:VEVENT
END:VCALENDAR