BEGIN:VCALENDAR
VERSION:2.0
PRODID:-//BOHUŠ MATUŠ - ECPv5.9.1//NONSGML v1.0//EN
CALSCALE:GREGORIAN
METHOD:PUBLISH
X-WR-CALNAME:BOHUŠ MATUŠ
X-ORIGINAL-URL:https://bohusmatus.com
X-WR-CALDESC:Akce na BOHUŠ MATUŠ
BEGIN:VTIMEZONE
TZID:Europe/Prague
BEGIN:DAYLIGHT
TZOFFSETFROM:+0100
TZOFFSETTO:+0200
TZNAME:CEST
DTSTART:20260329T010000
END:DAYLIGHT
BEGIN:STANDARD
TZOFFSETFROM:+0200
TZOFFSETTO:+0100
TZNAME:CET
DTSTART:20261025T010000
END:STANDARD
END:VTIMEZONE
BEGIN:VEVENT
DTSTART;TZID=Europe/Prague:20261128T220000
DTEND;TZID=Europe/Prague:20261128T230000
DTSTAMP:20260419T141437
CREATED:20260228T084020Z
LAST-MODIFIED:20260228T084020Z
UID:6788-1795903200-1795906800@bohusmatus.com
SUMMARY:Rezervace Praha - Obecní dům
DESCRIPTION:
URL:https://bohusmatus.com/vystoupeni/rezervace-praha-obecni-dum/
CATEGORIES:Vystoupení
END:VEVENT
END:VCALENDAR