BEGIN:VCALENDAR
VERSION:2.0
PRODID:-//BOHUŠ MATUŠ - ECPv5.9.1//NONSGML v1.0//EN
CALSCALE:GREGORIAN
METHOD:PUBLISH
X-WR-CALNAME:BOHUŠ MATUŠ
X-ORIGINAL-URL:https://bohusmatus.com
X-WR-CALDESC:Akce na BOHUŠ MATUŠ
BEGIN:VTIMEZONE
TZID:Europe/Prague
BEGIN:DAYLIGHT
TZOFFSETFROM:+0100
TZOFFSETTO:+0200
TZNAME:CEST
DTSTART:20250330T010000
END:DAYLIGHT
BEGIN:STANDARD
TZOFFSETFROM:+0200
TZOFFSETTO:+0100
TZNAME:CET
DTSTART:20251026T010000
END:STANDARD
END:VTIMEZONE
BEGIN:VEVENT
DTSTART;TZID=Europe/Prague:20251222T190000
DTEND;TZID=Europe/Prague:20251222T203000
DTSTAMP:20260420T043949
CREATED:20250113T073327Z
LAST-MODIFIED:20251221T213741Z
UID:6065-1766430000-1766435400@bohusmatus.com
SUMMARY:Litomyšl s Magdou Malou
DESCRIPTION:
URL:https://bohusmatus.com/vystoupeni/rezervace-ds-6/
CATEGORIES:Vystoupení
END:VEVENT
END:VCALENDAR