BEGIN:VCALENDAR
VERSION:2.0
PRODID:-//BOHUŠ MATUŠ - ECPv5.9.1//NONSGML v1.0//EN
CALSCALE:GREGORIAN
METHOD:PUBLISH
X-WR-CALNAME:BOHUŠ MATUŠ
X-ORIGINAL-URL:https://bohusmatus.com
X-WR-CALDESC:Akce na BOHUŠ MATUŠ
BEGIN:VTIMEZONE
TZID:Europe/Prague
BEGIN:DAYLIGHT
TZOFFSETFROM:+0100
TZOFFSETTO:+0200
TZNAME:CEST
DTSTART:20200329T010000
END:DAYLIGHT
BEGIN:STANDARD
TZOFFSETFROM:+0200
TZOFFSETTO:+0100
TZNAME:CET
DTSTART:20201025T010000
END:STANDARD
END:VTIMEZONE
BEGIN:VEVENT
DTSTART;TZID=Europe/Prague:20200125T210000
DTEND;TZID=Europe/Prague:20200125T214500
DTSTAMP:20260419T163405
CREATED:20190829T152012Z
LAST-MODIFIED:20190829T152012Z
UID:2794-1579986000-1579988700@bohusmatus.com
SUMMARY:Praha - Žofín
DESCRIPTION:
URL:https://bohusmatus.com/vystoupeni/praha-zofin/
CATEGORIES:Vystoupení
END:VEVENT
END:VCALENDAR