BEGIN:VCALENDAR
VERSION:2.0
PRODID:-//BOHUŠ MATUŠ - ECPv5.9.1//NONSGML v1.0//EN
CALSCALE:GREGORIAN
METHOD:PUBLISH
X-WR-CALNAME:BOHUŠ MATUŠ
X-ORIGINAL-URL:https://bohusmatus.com
X-WR-CALDESC:Akce na BOHUŠ MATUŠ
BEGIN:VTIMEZONE
TZID:Europe/Prague
BEGIN:DAYLIGHT
TZOFFSETFROM:+0100
TZOFFSETTO:+0200
TZNAME:CEST
DTSTART:20190331T010000
END:DAYLIGHT
BEGIN:STANDARD
TZOFFSETFROM:+0200
TZOFFSETTO:+0100
TZNAME:CET
DTSTART:20191027T010000
END:STANDARD
END:VTIMEZONE
BEGIN:VEVENT
DTSTART;VALUE=DATE:20190427
DTEND;VALUE=DATE:20190428
DTSTAMP:20260419T160333
CREATED:20190204T194311Z
LAST-MODIFIED:20190204T200128Z
UID:2261-1556323200-1556409599@bohusmatus.com
SUMMARY:Praha - Šapitó - s Magdou Malou
DESCRIPTION:
URL:https://bohusmatus.com/vystoupeni/praha-sapito-s-magdou-malou/
CATEGORIES:Vystoupení
END:VEVENT
END:VCALENDAR