BEGIN:VCALENDAR
VERSION:2.0
PRODID:-//BOHUŠ MATUŠ - ECPv5.9.1//NONSGML v1.0//EN
CALSCALE:GREGORIAN
METHOD:PUBLISH
X-WR-CALNAME:BOHUŠ MATUŠ
X-ORIGINAL-URL:https://bohusmatus.com
X-WR-CALDESC:Akce na BOHUŠ MATUŠ
BEGIN:VTIMEZONE
TZID:Europe/Prague
BEGIN:DAYLIGHT
TZOFFSETFROM:+0100
TZOFFSETTO:+0200
TZNAME:CEST
DTSTART:20250330T010000
END:DAYLIGHT
BEGIN:STANDARD
TZOFFSETFROM:+0200
TZOFFSETTO:+0100
TZNAME:CET
DTSTART:20251026T010000
END:STANDARD
END:VTIMEZONE
BEGIN:VEVENT
DTSTART;TZID=Europe/Prague:20251217T190000
DTEND;TZID=Europe/Prague:20251217T200000
DTSTAMP:20260420T045031
CREATED:20250728T165025Z
LAST-MODIFIED:20251206T111455Z
UID:6373-1765998000-1766001600@bohusmatus.com
SUMMARY:Jesenice - vánoční koncert s kapelou  Charlie Band
DESCRIPTION:
URL:https://bohusmatus.com/vystoupeni/praha-rezervace-3/
CATEGORIES:Vystoupení
END:VEVENT
END:VCALENDAR