BEGIN:VCALENDAR
VERSION:2.0
PRODID:-//BOHUŠ MATUŠ - ECPv5.9.1//NONSGML v1.0//EN
CALSCALE:GREGORIAN
METHOD:PUBLISH
X-WR-CALNAME:BOHUŠ MATUŠ
X-ORIGINAL-URL:https://bohusmatus.com
X-WR-CALDESC:Akce na BOHUŠ MATUŠ
BEGIN:VTIMEZONE
TZID:Europe/Prague
BEGIN:DAYLIGHT
TZOFFSETFROM:+0100
TZOFFSETTO:+0200
TZNAME:CEST
DTSTART:20260329T010000
END:DAYLIGHT
BEGIN:STANDARD
TZOFFSETFROM:+0200
TZOFFSETTO:+0100
TZNAME:CET
DTSTART:20261025T010000
END:STANDARD
END:VTIMEZONE
BEGIN:VEVENT
DTSTART;TZID=Europe/Prague:20261004T160000
DTEND;TZID=Europe/Prague:20261004T174500
DTSTAMP:20260419T142733
CREATED:20260129T122022Z
LAST-MODIFIED:20260129T122022Z
UID:6711-1791129600-1791135900@bohusmatus.com
SUMMARY:Praha - Divadlo Ypsilonka
DESCRIPTION:
URL:https://bohusmatus.com/vystoupeni/praha-divadlo-ypsilonka/
CATEGORIES:Vystoupení
END:VEVENT
END:VCALENDAR