BEGIN:VCALENDAR
VERSION:2.0
PRODID:-//BOHUŠ MATUŠ - ECPv5.9.1//NONSGML v1.0//EN
CALSCALE:GREGORIAN
METHOD:PUBLISH
X-WR-CALNAME:BOHUŠ MATUŠ
X-ORIGINAL-URL:https://bohusmatus.com
X-WR-CALDESC:Akce na BOHUŠ MATUŠ
BEGIN:VTIMEZONE
TZID:Europe/Prague
BEGIN:DAYLIGHT
TZOFFSETFROM:+0100
TZOFFSETTO:+0200
TZNAME:CEST
DTSTART:20180325T010000
END:DAYLIGHT
BEGIN:STANDARD
TZOFFSETFROM:+0200
TZOFFSETTO:+0100
TZNAME:CET
DTSTART:20181028T010000
END:STANDARD
END:VTIMEZONE
BEGIN:VEVENT
DTSTART;TZID=Europe/Prague:20181216T150000
DTEND;TZID=Europe/Prague:20181216T150000
DTSTAMP:20260419T155338
CREATED:20181212T055614Z
LAST-MODIFIED:20181212T065719Z
UID:2011-1544972400-1544972400@bohusmatus.com
SUMMARY:Olomouc (Flora)
DESCRIPTION:Pro děti z dětských domovů.
URL:https://bohusmatus.com/vystoupeni/olomouc-flora/
CATEGORIES:Vystoupení
END:VEVENT
END:VCALENDAR