BEGIN:VCALENDAR
VERSION:2.0
PRODID:-//BOHUŠ MATUŠ - ECPv5.9.1//NONSGML v1.0//EN
CALSCALE:GREGORIAN
METHOD:PUBLISH
X-WR-CALNAME:BOHUŠ MATUŠ
X-ORIGINAL-URL:https://bohusmatus.com
X-WR-CALDESC:Akce na BOHUŠ MATUŠ
BEGIN:VTIMEZONE
TZID:Europe/Prague
BEGIN:DAYLIGHT
TZOFFSETFROM:+0100
TZOFFSETTO:+0200
TZNAME:CEST
DTSTART:20230326T010000
END:DAYLIGHT
BEGIN:STANDARD
TZOFFSETFROM:+0200
TZOFFSETTO:+0100
TZNAME:CET
DTSTART:20231029T010000
END:STANDARD
END:VTIMEZONE
BEGIN:VEVENT
DTSTART;TZID=Europe/Prague:20230412T190000
DTEND;TZID=Europe/Prague:20230412T210000
DTSTAMP:20260420T045219
CREATED:20220616T163124Z
LAST-MODIFIED:20230326T094858Z
UID:4188-1681326000-1681333200@bohusmatus.com
SUMMARY:Litomyšl - Jdi za štěstím - Marian Vojtko a Bohuš Matuš zpívají písně Karla Gotta
DESCRIPTION:
URL:https://bohusmatus.com/vystoupeni/jdi-za-stestim-marian-vojtko-a-bohus-matus-zpivaji-pisne-karla-gotta-5/
LOCATION:Litomyšl – Smetanův dům
CATEGORIES:Vystoupení
ATTACH;FMTTYPE=image/jpeg:https://bohusmatus.com/wp-content/uploads/2022/06/w_small_be792f07af6d2b3659108f1c6d97615a.jpg
END:VEVENT
END:VCALENDAR