BEGIN:VCALENDAR
VERSION:2.0
PRODID:-//BOHUŠ MATUŠ - ECPv5.9.1//NONSGML v1.0//EN
CALSCALE:GREGORIAN
METHOD:PUBLISH
X-WR-CALNAME:BOHUŠ MATUŠ
X-ORIGINAL-URL:https://bohusmatus.com
X-WR-CALDESC:Akce na BOHUŠ MATUŠ
BEGIN:VTIMEZONE
TZID:Europe/Prague
BEGIN:DAYLIGHT
TZOFFSETFROM:+0100
TZOFFSETTO:+0200
TZNAME:CEST
DTSTART:20220327T010000
END:DAYLIGHT
BEGIN:STANDARD
TZOFFSETFROM:+0200
TZOFFSETTO:+0100
TZNAME:CET
DTSTART:20221030T010000
END:STANDARD
END:VTIMEZONE
BEGIN:VEVENT
DTSTART;TZID=Europe/Prague:20221218T180000
DTEND;TZID=Europe/Prague:20221218T200000
DTSTAMP:20260419T152145
CREATED:20221217T091917Z
LAST-MODIFIED:20221217T091917Z
UID:4424-1671386400-1671393600@bohusmatus.com
SUMMARY:Hybernia - Vánoční nostalgie
DESCRIPTION:
URL:https://bohusmatus.com/vystoupeni/hybernia-vanocni-nostalgie-2/
LOCATION:Divadlo HYBERNIA\, Nám. Republiky 4\, Praha 1\, Praha 1
CATEGORIES:Vystoupení
END:VEVENT
END:VCALENDAR