BEGIN:VCALENDAR
VERSION:2.0
PRODID:-//BOHUŠ MATUŠ - ECPv5.9.1//NONSGML v1.0//EN
CALSCALE:GREGORIAN
METHOD:PUBLISH
X-WR-CALNAME:BOHUŠ MATUŠ
X-ORIGINAL-URL:https://bohusmatus.com
X-WR-CALDESC:Akce na BOHUŠ MATUŠ
BEGIN:VTIMEZONE
TZID:Europe/Prague
BEGIN:DAYLIGHT
TZOFFSETFROM:+0100
TZOFFSETTO:+0200
TZNAME:CEST
DTSTART:20230326T010000
END:DAYLIGHT
BEGIN:STANDARD
TZOFFSETFROM:+0200
TZOFFSETTO:+0100
TZNAME:CET
DTSTART:20231029T010000
END:STANDARD
END:VTIMEZONE
BEGIN:VEVENT
DTSTART;TZID=Europe/Prague:20231128T180000
DTEND;TZID=Europe/Prague:20231128T200000
DTSTAMP:20260420T045155
CREATED:20230216T115506Z
LAST-MODIFIED:20231108T190842Z
UID:4593-1701194400-1701201600@bohusmatus.com
SUMMARY:Horní Moštěnice Vánoční koncert - s Magdou Malou
DESCRIPTION:
URL:https://bohusmatus.com/vystoupeni/horni-mostenice-4/
LOCATION:Horní Moštěnice
CATEGORIES:Vystoupení
ATTACH;FMTTYPE=image/jpeg:https://bohusmatus.com/wp-content/uploads/2023/02/Mala-Matus.jpg
END:VEVENT
END:VCALENDAR