BEGIN:VCALENDAR
VERSION:2.0
PRODID:-//BOHUŠ MATUŠ - ECPv5.9.1//NONSGML v1.0//EN
CALSCALE:GREGORIAN
METHOD:PUBLISH
X-WR-CALNAME:BOHUŠ MATUŠ
X-ORIGINAL-URL:https://bohusmatus.com
X-WR-CALDESC:Akce na BOHUŠ MATUŠ
BEGIN:VTIMEZONE
TZID:Europe/Prague
BEGIN:DAYLIGHT
TZOFFSETFROM:+0100
TZOFFSETTO:+0200
TZNAME:CEST
DTSTART:20180325T010000
END:DAYLIGHT
BEGIN:STANDARD
TZOFFSETFROM:+0200
TZOFFSETTO:+0100
TZNAME:CET
DTSTART:20181028T010000
END:STANDARD
END:VTIMEZONE
BEGIN:VEVENT
DTSTART;TZID=Europe/Prague:20181104T140000
DTEND;TZID=Europe/Prague:20181104T160000
DTSTAMP:20260419T143616
CREATED:20181024T025648Z
LAST-MODIFIED:20181024T025917Z
UID:1570-1541340000-1541347200@bohusmatus.com
SUMMARY:Fantom opery
DESCRIPTION:
URL:https://bohusmatus.com/vystoupeni/fantom-opery/
LOCATION:Divadlo GOJA Music Hall\, Výstaviště 170 00\, Praha 7-Bubeneč\, 17000\, Česká republika
CATEGORIES:Vystoupení
ATTACH;FMTTYPE=image/jpeg:https://bohusmatus.com/wp-content/uploads/2018/10/gojamusichall.jpg
END:VEVENT
END:VCALENDAR