BEGIN:VCALENDAR
VERSION:2.0
PRODID:-//BOHUŠ MATUŠ - ECPv5.9.1//NONSGML v1.0//EN
CALSCALE:GREGORIAN
METHOD:PUBLISH
X-WR-CALNAME:BOHUŠ MATUŠ
X-ORIGINAL-URL:https://bohusmatus.com
X-WR-CALDESC:Akce na BOHUŠ MATUŠ
BEGIN:VTIMEZONE
TZID:Europe/Prague
BEGIN:DAYLIGHT
TZOFFSETFROM:+0100
TZOFFSETTO:+0200
TZNAME:CEST
DTSTART:20190331T010000
END:DAYLIGHT
BEGIN:STANDARD
TZOFFSETFROM:+0200
TZOFFSETTO:+0100
TZNAME:CET
DTSTART:20191027T010000
END:STANDARD
END:VTIMEZONE
BEGIN:VEVENT
DTSTART;TZID=Europe/Prague:20190127T140000
DTEND;TZID=Europe/Prague:20190127T140000
DTSTAMP:20260419T215539
CREATED:20181212T062341Z
LAST-MODIFIED:20181212T062341Z
UID:2040-1548597600-1548597600@bohusmatus.com
SUMMARY:Fantom opery (Praha)
DESCRIPTION:
URL:https://bohusmatus.com/vystoupeni/fantom-opery-praha-4/
LOCATION:Divadlo GOJA Music Hall\, Výstaviště 170 00\, Praha 7-Bubeneč\, 17000\, Česká republika
CATEGORIES:Vystoupení
END:VEVENT
END:VCALENDAR