BEGIN:VCALENDAR
VERSION:2.0
PRODID:-//BOHUŠ MATUŠ - ECPv5.9.1//NONSGML v1.0//EN
CALSCALE:GREGORIAN
METHOD:PUBLISH
X-WR-CALNAME:BOHUŠ MATUŠ
X-ORIGINAL-URL:https://bohusmatus.com
X-WR-CALDESC:Akce na BOHUŠ MATUŠ
BEGIN:VTIMEZONE
TZID:Europe/Prague
BEGIN:DAYLIGHT
TZOFFSETFROM:+0100
TZOFFSETTO:+0200
TZNAME:CEST
DTSTART:20190331T010000
END:DAYLIGHT
BEGIN:STANDARD
TZOFFSETFROM:+0200
TZOFFSETTO:+0100
TZNAME:CET
DTSTART:20191027T010000
END:STANDARD
END:VTIMEZONE
BEGIN:VEVENT
DTSTART;VALUE=DATE:20190412
DTEND;VALUE=DATE:20190413
DTSTAMP:20260419T194245
CREATED:20190409T222707Z
LAST-MODIFIED:20190409T222707Z
UID:2458-1555027200-1555113599@bohusmatus.com
SUMMARY:Český rozhlas Region - "Pochoutky na talíři" s Naďou Konvalinkovou
DESCRIPTION:
URL:https://bohusmatus.com/vystoupeni/cesky-rozhlas-region-pochoutky-na-taliri-s-nadou-konvalinkovou/
CATEGORIES:Vystoupení
END:VEVENT
END:VCALENDAR