BEGIN:VCALENDAR
VERSION:2.0
PRODID:-//BOHUŠ MATUŠ - ECPv5.9.1//NONSGML v1.0//EN
CALSCALE:GREGORIAN
METHOD:PUBLISH
X-WR-CALNAME:BOHUŠ MATUŠ
X-ORIGINAL-URL:https://bohusmatus.com
X-WR-CALDESC:Akce na BOHUŠ MATUŠ
BEGIN:VTIMEZONE
TZID:Europe/Prague
BEGIN:DAYLIGHT
TZOFFSETFROM:+0100
TZOFFSETTO:+0200
TZNAME:CEST
DTSTART:20250330T010000
END:DAYLIGHT
BEGIN:STANDARD
TZOFFSETFROM:+0200
TZOFFSETTO:+0100
TZNAME:CET
DTSTART:20251026T010000
END:STANDARD
END:VTIMEZONE
BEGIN:VEVENT
DTSTART;TZID=Europe/Prague:20251227T170000
DTEND;TZID=Europe/Prague:20251227T180000
DTSTAMP:20260420T045154
CREATED:20251109T174005Z
LAST-MODIFIED:20251109T174005Z
UID:6520-1766854800-1766858400@bohusmatus.com
SUMMARY:Adventní trhy - Písek
DESCRIPTION:Velké náměstí
URL:https://bohusmatus.com/vystoupeni/adventni-trhy-pisek/
CATEGORIES:Vystoupení
END:VEVENT
END:VCALENDAR