BEGIN:VCALENDAR
VERSION:2.0
PRODID:-//BOHUŠ MATUŠ - ECPv5.9.1//NONSGML v1.0//EN
CALSCALE:GREGORIAN
METHOD:PUBLISH
X-WR-CALNAME:BOHUŠ MATUŠ
X-ORIGINAL-URL:https://bohusmatus.com
X-WR-CALDESC:Akce na BOHUŠ MATUŠ
BEGIN:VTIMEZONE
TZID:Europe/Prague
BEGIN:DAYLIGHT
TZOFFSETFROM:+0100
TZOFFSETTO:+0200
TZNAME:CEST
DTSTART:20260329T010000
END:DAYLIGHT
BEGIN:STANDARD
TZOFFSETFROM:+0200
TZOFFSETTO:+0100
TZNAME:CET
DTSTART:20261025T010000
END:STANDARD
END:VTIMEZONE
BEGIN:VEVENT
DTSTART;TZID=Europe/Prague:20260422T180000
DTEND;TZID=Europe/Prague:20260422T190000
DTSTAMP:20260420T031149
CREATED:20260330T185245Z
LAST-MODIFIED:20260330T185251Z
UID:6824-1776880800-1776884400@bohusmatus.com
SUMMARY:Kabaret
DESCRIPTION:p. Jílek
URL:https://bohusmatus.com/vystoupeni/kabaret/
CATEGORIES:Vystoupení
END:VEVENT
BEGIN:VEVENT
DTSTART;TZID=Europe/Prague:20260425T170000
DTEND;TZID=Europe/Prague:20260425T183000
DTSTAMP:20260420T031149
CREATED:20260105T183038Z
LAST-MODIFIED:20260105T183038Z
UID:6640-1777136400-1777141800@bohusmatus.com
SUMMARY:Bučovice - host programu KGMR 20 let
DESCRIPTION:Josef Bouda
URL:https://bohusmatus.com/vystoupeni/bucovice-host-programu-kgmr-20-let/
CATEGORIES:Vystoupení
END:VEVENT
BEGIN:VEVENT
DTSTART;VALUE=DATE:20260501
DTEND;VALUE=DATE:20260502
DTSTAMP:20260420T031149
CREATED:20260407T101203Z
LAST-MODIFIED:20260407T101203Z
UID:6837-1777593600-1777679999@bohusmatus.com
SUMMARY:Narozeninový koncert - M. Sommerová
DESCRIPTION:B. Matuš
URL:https://bohusmatus.com/vystoupeni/narozeninovy-koncert-m-sommerova/
CATEGORIES:Vystoupení
END:VEVENT
BEGIN:VEVENT
DTSTART;TZID=Europe/Prague:20260502T160000
DTEND;TZID=Europe/Prague:20260502T170000
DTSTAMP:20260420T031149
CREATED:20250617T094138Z
LAST-MODIFIED:20260317T170104Z
UID:6324-1777737600-1777741200@bohusmatus.com
SUMMARY:soukromá akce
DESCRIPTION:Želeč u Tábora – R.Machander
URL:https://bohusmatus.com/vystoupeni/soukroma-akce-42/
CATEGORIES:Vystoupení
END:VEVENT
BEGIN:VEVENT
DTSTART;TZID=Europe/Prague:20260515T190000
DTEND;TZID=Europe/Prague:20260515T210000
DTSTAMP:20260420T031149
CREATED:20260125T185258Z
LAST-MODIFIED:20260125T185424Z
UID:6694-1778871600-1778878800@bohusmatus.com
SUMMARY:Zámek Dobříš
DESCRIPTION:
URL:https://bohusmatus.com/vystoupeni/zamek-dobris-2/
CATEGORIES:Vystoupení
END:VEVENT
BEGIN:VEVENT
DTSTART;TZID=Europe/Prague:20260516T190000
DTEND;TZID=Europe/Prague:20260516T201500
DTSTAMP:20260420T031149
CREATED:20260105T192222Z
LAST-MODIFIED:20260210T182525Z
UID:6642-1778958000-1778962500@bohusmatus.com
SUMMARY:Libušín - koncert s Magdou Malou
DESCRIPTION:Magda Malá
URL:https://bohusmatus.com/vystoupeni/rezervace-69/
CATEGORIES:Vystoupení
END:VEVENT
BEGIN:VEVENT
DTSTART;TZID=Europe/Prague:20260522T190000
DTEND;TZID=Europe/Prague:20260522T210000
DTSTAMP:20260420T031149
CREATED:20251121T114955Z
LAST-MODIFIED:20251121T114955Z
UID:6553-1779476400-1779483600@bohusmatus.com
SUMMARY:Praha - divadlo Semafor - Jó\, třešně zrály
DESCRIPTION:
URL:https://bohusmatus.com/vystoupeni/praha-divadlo-semafor-jo-tresne-zraly-3/
CATEGORIES:Vystoupení
END:VEVENT
BEGIN:VEVENT
DTSTART;VALUE=DATE:20260523
DTEND;VALUE=DATE:20260524
DTSTAMP:20260420T031149
CREATED:20260306T103708Z
LAST-MODIFIED:20260306T103708Z
UID:6797-1779494400-1779580799@bohusmatus.com
SUMMARY:Nové hrady
DESCRIPTION:M. France
URL:https://bohusmatus.com/vystoupeni/nove-hrady-3/
CATEGORIES:Vystoupení
END:VEVENT
BEGIN:VEVENT
DTSTART;TZID=Europe/Prague:20260603T160000
DTEND;TZID=Europe/Prague:20260603T164500
DTSTAMP:20260420T031149
CREATED:20260211T173812Z
LAST-MODIFIED:20260223T094520Z
UID:6748-1780502400-1780505100@bohusmatus.com
SUMMARY:Den sociálních služeb- Litoměřice
DESCRIPTION:Majka
URL:https://bohusmatus.com/vystoupeni/rezervace-litomerice/
CATEGORIES:Vystoupení
END:VEVENT
BEGIN:VEVENT
DTSTART;TZID=Europe/Prague:20260603T190000
DTEND;TZID=Europe/Prague:20260603T210000
DTSTAMP:20260420T031149
CREATED:20260125T175713Z
LAST-MODIFIED:20260125T175713Z
UID:6692-1780513200-1780520400@bohusmatus.com
SUMMARY:Werichova vila - zahrada - Jó třešně zrály
DESCRIPTION:
URL:https://bohusmatus.com/vystoupeni/werichova-vila-zahrada-jo-tresne-zraly/
CATEGORIES:Vystoupení
END:VEVENT
BEGIN:VEVENT
DTSTART;TZID=Europe/Prague:20260605T180000
DTEND;TZID=Europe/Prague:20260605T200000
DTSTAMP:20260420T031149
CREATED:20260330T203058Z
LAST-MODIFIED:20260330T203058Z
UID:6826-1780682400-1780689600@bohusmatus.com
SUMMARY:soukromá akce
DESCRIPTION:Majka
URL:https://bohusmatus.com/vystoupeni/soukroma-akce-44/
CATEGORIES:Vystoupení
END:VEVENT
BEGIN:VEVENT
DTSTART;TZID=Europe/Prague:20260606T130000
DTEND;TZID=Europe/Prague:20260606T153000
DTSTAMP:20260420T031149
CREATED:20250723T094125Z
LAST-MODIFIED:20250723T094125Z
UID:6365-1780750800-1780759800@bohusmatus.com
SUMMARY:Praha - parník
DESCRIPTION:
URL:https://bohusmatus.com/vystoupeni/praha-parnik/
CATEGORIES:Vystoupení
END:VEVENT
BEGIN:VEVENT
DTSTART;TZID=Europe/Prague:20260612T170000
DTEND;TZID=Europe/Prague:20260612T174500
DTSTAMP:20260420T031149
CREATED:20251014T074715Z
LAST-MODIFIED:20251014T074715Z
UID:6470-1781283600-1781286300@bohusmatus.com
SUMMARY:Zahradní slavnost - Měcholupy u Žatce
DESCRIPTION:
URL:https://bohusmatus.com/vystoupeni/zahradni-slavnost-mecholupy-u-zatce/
CATEGORIES:Vystoupení
END:VEVENT
BEGIN:VEVENT
DTSTART;TZID=Europe/Prague:20260613T200000
DTEND;TZID=Europe/Prague:20260613T220000
DTSTAMP:20260420T031149
CREATED:20251016T105414Z
LAST-MODIFIED:20251016T131419Z
UID:6478-1781380800-1781388000@bohusmatus.com
SUMMARY:Noc na Karlštejně - Kuks
DESCRIPTION:
URL:https://bohusmatus.com/vystoupeni/noc-na-karlstejne-13/
CATEGORIES:Vystoupení
END:VEVENT
BEGIN:VEVENT
DTSTART;TZID=Europe/Prague:20260614T160000
DTEND;TZID=Europe/Prague:20260614T180000
DTSTAMP:20260420T031149
CREATED:20251016T110837Z
LAST-MODIFIED:20251016T131235Z
UID:6483-1781452800-1781460000@bohusmatus.com
SUMMARY:Noc na Karlštejně - Kuks
DESCRIPTION:
URL:https://bohusmatus.com/vystoupeni/noc-na-karlstejne-15/
CATEGORIES:Vystoupení
END:VEVENT
BEGIN:VEVENT
DTSTART;TZID=Europe/Prague:20260614T200000
DTEND;TZID=Europe/Prague:20260614T220000
DTSTAMP:20260420T031149
CREATED:20251016T110933Z
LAST-MODIFIED:20251016T131137Z
UID:6485-1781467200-1781474400@bohusmatus.com
SUMMARY:Noc na Karlštejně - Kuks
DESCRIPTION:
URL:https://bohusmatus.com/vystoupeni/noc-na-karlstejne-16/
CATEGORIES:Vystoupení
END:VEVENT
BEGIN:VEVENT
DTSTART;TZID=Europe/Prague:20260620T173000
DTEND;TZID=Europe/Prague:20260620T181500
DTSTAMP:20260420T031149
CREATED:20250625T190750Z
LAST-MODIFIED:20251111T173026Z
UID:6344-1781976600-1781979300@bohusmatus.com
SUMMARY:Zbiroh u Berouna
DESCRIPTION:
URL:https://bohusmatus.com/vystoupeni/masovice-u-znojma/
CATEGORIES:Vystoupení
END:VEVENT
BEGIN:VEVENT
DTSTART;VALUE=DATE:20260621
DTEND;VALUE=DATE:20260622
DTSTAMP:20260420T031149
CREATED:20251128T184327Z
LAST-MODIFIED:20251128T184327Z
UID:6591-1782000000-1782086399@bohusmatus.com
SUMMARY:Rychnov nad Kněžnou
DESCRIPTION:
URL:https://bohusmatus.com/vystoupeni/rychnov-nad-kneznou/
CATEGORIES:Vystoupení
END:VEVENT
BEGIN:VEVENT
DTSTART;TZID=Europe/Prague:20260627T163000
DTEND;TZID=Europe/Prague:20260627T171500
DTSTAMP:20260420T031149
CREATED:20260202T152836Z
LAST-MODIFIED:20260204T195033Z
UID:6726-1782577800-1782580500@bohusmatus.com
SUMMARY:Stanovice u Karlových Varů
DESCRIPTION:R. Machandr
URL:https://bohusmatus.com/vystoupeni/stanovice-u-karlovych-varu/
CATEGORIES:Vystoupení
END:VEVENT
BEGIN:VEVENT
DTSTART;TZID=Europe/Prague:20260627T180000
DTEND;TZID=Europe/Prague:20260627T184500
DTSTAMP:20260420T031149
CREATED:20260131T084255Z
LAST-MODIFIED:20260318T100157Z
UID:6721-1782583200-1782585900@bohusmatus.com
SUMMARY:Vranov u Štříbra
DESCRIPTION:p. Machandr
URL:https://bohusmatus.com/vystoupeni/rezervace-70/
CATEGORIES:Vystoupení
END:VEVENT
BEGIN:VEVENT
DTSTART;TZID=Europe/Prague:20260711T150000
DTEND;TZID=Europe/Prague:20260711T154500
DTSTAMP:20260420T031149
CREATED:20250902T121545Z
LAST-MODIFIED:20250902T121545Z
UID:6396-1783782000-1783784700@bohusmatus.com
SUMMARY:Mašťov u Podbořan\, okr.Chomutov
DESCRIPTION:
URL:https://bohusmatus.com/vystoupeni/mastov-u-podboran-okr-chomutov/
CATEGORIES:Vystoupení
END:VEVENT
BEGIN:VEVENT
DTSTART;TZID=Europe/Prague:20260711T170000
DTEND;TZID=Europe/Prague:20260711T180000
DTSTAMP:20260420T031149
CREATED:20250709T095508Z
LAST-MODIFIED:20250709T095508Z
UID:6349-1783789200-1783792800@bohusmatus.com
SUMMARY:Očihov
DESCRIPTION:
URL:https://bohusmatus.com/vystoupeni/ocihov/
CATEGORIES:Vystoupení
END:VEVENT
BEGIN:VEVENT
DTSTART;TZID=Europe/Prague:20260716T200000
DTEND;TZID=Europe/Prague:20260716T213000
DTSTAMP:20260420T031149
CREATED:20251111T171810Z
LAST-MODIFIED:20251111T171810Z
UID:6526-1784232000-1784237400@bohusmatus.com
SUMMARY:Opočno - Pocta legendám
DESCRIPTION:
URL:https://bohusmatus.com/vystoupeni/opocno-pocta-legendam/
CATEGORIES:Vystoupení
END:VEVENT
BEGIN:VEVENT
DTSTART;TZID=Europe/Prague:20260718T180000
DTEND;TZID=Europe/Prague:20260718T190000
DTSTAMP:20260420T031149
CREATED:20251227T111651Z
LAST-MODIFIED:20251227T111651Z
UID:6635-1784397600-1784401200@bohusmatus.com
SUMMARY:Nečtiny u Plzně - Anenská pouť
DESCRIPTION:Radek Machandr
URL:https://bohusmatus.com/vystoupeni/nectiny-u-plzne-anenska-pout/
CATEGORIES:Vystoupení
END:VEVENT
BEGIN:VEVENT
DTSTART;TZID=Europe/Prague:20260719T150000
DTEND;TZID=Europe/Prague:20260719T170000
DTSTAMP:20260420T031149
CREATED:20251107T114749Z
LAST-MODIFIED:20251107T114749Z
UID:6514-1784473200-1784480400@bohusmatus.com
SUMMARY:Praha - loď s Magdou Malou
DESCRIPTION:
URL:https://bohusmatus.com/vystoupeni/praha-lod-s-magdou-malou/
CATEGORIES:Vystoupení
END:VEVENT
BEGIN:VEVENT
DTSTART;VALUE=DATE:20260720
DTEND;VALUE=DATE:20260721
DTSTAMP:20260420T031149
CREATED:20251111T171956Z
LAST-MODIFIED:20251111T171956Z
UID:6528-1784505600-1784591999@bohusmatus.com
SUMMARY:České Budějovice - Pocta legendám
DESCRIPTION:
URL:https://bohusmatus.com/vystoupeni/ceske-budejovice-pocta-legendam/
CATEGORIES:Vystoupení
END:VEVENT
BEGIN:VEVENT
DTSTART;TZID=Europe/Prague:20260725T180000
DTEND;TZID=Europe/Prague:20260725T190000
DTSTAMP:20260420T031149
CREATED:20251009T172327Z
LAST-MODIFIED:20251009T172411Z
UID:6468-1785002400-1785006000@bohusmatus.com
SUMMARY:Vranov u Stříbra
DESCRIPTION:
URL:https://bohusmatus.com/vystoupeni/vranov-u-stribra/
CATEGORIES:Vystoupení
END:VEVENT
BEGIN:VEVENT
DTSTART;TZID=Europe/Prague:20260726T200000
DTEND;TZID=Europe/Prague:20260726T213000
DTSTAMP:20260420T031149
CREATED:20251111T172206Z
LAST-MODIFIED:20251111T172206Z
UID:6530-1785096000-1785101400@bohusmatus.com
SUMMARY:Ždár nad Sázavou - Pocta legendám
DESCRIPTION:
URL:https://bohusmatus.com/vystoupeni/zdar-nad-sazavou-pocta-legendam/
CATEGORIES:Vystoupení
END:VEVENT
BEGIN:VEVENT
DTSTART;TZID=Europe/Prague:20260731T190000
DTEND;TZID=Europe/Prague:20260731T210000
DTSTAMP:20260420T031149
CREATED:20260330T134113Z
LAST-MODIFIED:20260330T134123Z
UID:6822-1785524400-1785531600@bohusmatus.com
SUMMARY:Jindřichův Hradec - Jó třesně zrály
DESCRIPTION:Bára – zámek
URL:https://bohusmatus.com/vystoupeni/jindrichuv-hradec-jo-tresne-zraly/
CATEGORIES:Vystoupení
END:VEVENT
BEGIN:VEVENT
DTSTART;TZID=Europe/Prague:20260808T200000
DTEND;TZID=Europe/Prague:20260808T220000
DTSTAMP:20260420T031149
CREATED:20251016T111308Z
LAST-MODIFIED:20251016T131325Z
UID:6489-1786219200-1786226400@bohusmatus.com
SUMMARY:Noc na Karlštejně - Sychrov
DESCRIPTION:
URL:https://bohusmatus.com/vystoupeni/noc-na-karlstejne-18/
CATEGORIES:Vystoupení
END:VEVENT
END:VCALENDAR